Package: EBarrays Version: 2.75.0 Command: /home/biocbuild/bbs-3.23-bioc/R/bin/R CMD INSTALL EBarrays StartedAt: 2025-11-18 16:05:10 -0500 (Tue, 18 Nov 2025) EndedAt: 2025-11-18 16:05:15 -0500 (Tue, 18 Nov 2025) EllapsedTime: 5.2 seconds RetCode: 0 Status: OK