Package: EDIRquery Version: 1.11.0 Command: /Library/Frameworks/R.framework/Resources/bin/R CMD INSTALL EDIRquery StartedAt: 2025-11-21 15:15:35 -0500 (Fri, 21 Nov 2025) EndedAt: 2025-11-21 15:15:45 -0500 (Fri, 21 Nov 2025) EllapsedTime: 9.7 seconds RetCode: 0 Status: OK