Package: EventPointer Version: 3.19.0 Command: /Library/Frameworks/R.framework/Resources/bin/R CMD INSTALL EventPointer StartedAt: 2025-11-18 15:42:20 -0500 (Tue, 18 Nov 2025) EndedAt: 2025-11-18 15:42:26 -0500 (Tue, 18 Nov 2025) EllapsedTime: 6.2 seconds RetCode: 1 Status: ERROR