Package: EventPointer Version: 3.19.0 Command: /Library/Frameworks/R.framework/Resources/bin/R CMD build --keep-empty-dirs --no-resave-data EventPointer StartedAt: 2025-11-24 16:58:49 -0500 (Mon, 24 Nov 2025) EndedAt: 2025-11-24 16:59:04 -0500 (Mon, 24 Nov 2025) EllapsedTime: 14.9 seconds RetCode: 1 Status: ERROR PackageFile: None PackageFileSize: NA