Package: EventPointer Version: 3.19.0 Command: /Library/Frameworks/R.framework/Resources/bin/R CMD INSTALL EventPointer StartedAt: 2025-11-24 15:55:28 -0500 (Mon, 24 Nov 2025) EndedAt: 2025-11-24 15:55:48 -0500 (Mon, 24 Nov 2025) EllapsedTime: 19.9 seconds RetCode: 1 Status: ERROR