Package: ExploreModelMatrix Version: 1.23.0 Command: /Library/Frameworks/R.framework/Resources/bin/R CMD INSTALL ExploreModelMatrix StartedAt: 2025-11-18 15:17:49 -0500 (Tue, 18 Nov 2025) EndedAt: 2025-11-18 15:17:53 -0500 (Tue, 18 Nov 2025) EllapsedTime: 4.3 seconds RetCode: 0 Status: OK