Package: ExploreModelMatrix Version: 1.23.0 Command: rm -rf ExploreModelMatrix.buildbin-libdir && mkdir ExploreModelMatrix.buildbin-libdir && /Users/biocbuild/BBS/utils/build-universal.sh ExploreModelMatrix_1.23.0.tar.gz /Library/Frameworks/R.framework/Resources/bin/R ExploreModelMatrix.buildbin-libdir StartedAt: 2025-11-19 01:28:31 -0500 (Wed, 19 Nov 2025) EndedAt: 2025-11-19 01:28:47 -0500 (Wed, 19 Nov 2025) EllapsedTime: 16.1 seconds RetCode: 0 Status: OK PackageFile: ExploreModelMatrix_1.23.0.tgz PackageFileSize: 2.67 MiB