Package: ExploreModelMatrix Version: 1.23.0 Command: /Library/Frameworks/R.framework/Resources/bin/R CMD build --keep-empty-dirs --no-resave-data ExploreModelMatrix StartedAt: 2025-11-18 16:57:12 -0500 (Tue, 18 Nov 2025) EndedAt: 2025-11-18 16:57:35 -0500 (Tue, 18 Nov 2025) EllapsedTime: 22.9 seconds RetCode: 0 Status: OK PackageFile: ExploreModelMatrix_1.23.0.tar.gz PackageFileSize: 2.611 MiB