Package: ExpressionAtlas Version: 2.3.0 Command: /Library/Frameworks/R.framework/Resources/bin/R CMD INSTALL ExpressionAtlas StartedAt: 2025-11-18 15:36:13 -0500 (Tue, 18 Nov 2025) EndedAt: 2025-11-18 15:36:23 -0500 (Tue, 18 Nov 2025) EllapsedTime: 9.4 seconds RetCode: 0 Status: OK