Package: FitHiC Version: 1.37.0 Command: /Library/Frameworks/R.framework/Resources/bin/R CMD INSTALL FitHiC StartedAt: 2025-11-18 15:12:15 -0500 (Tue, 18 Nov 2025) EndedAt: 2025-11-18 15:12:21 -0500 (Tue, 18 Nov 2025) EllapsedTime: 6.0 seconds RetCode: 0 Status: OK