Package: FlowSOM Version: 2.19.0 Command: rm -rf FlowSOM.buildbin-libdir && mkdir FlowSOM.buildbin-libdir && /Users/biocbuild/BBS/utils/build-universal.sh FlowSOM_2.19.0.tar.gz /Library/Frameworks/R.framework/Resources/bin/R FlowSOM.buildbin-libdir StartedAt: 2025-11-18 23:40:57 -0500 (Tue, 18 Nov 2025) EndedAt: 2025-11-18 23:41:05 -0500 (Tue, 18 Nov 2025) EllapsedTime: 8.1 seconds RetCode: 0 Status: OK PackageFile: FlowSOM_2.19.0.tgz PackageFileSize: 5.249 MiB