Package: FlowSOM Version: 2.19.0 Command: /Library/Frameworks/R.framework/Resources/bin/R CMD build --keep-empty-dirs --no-resave-data FlowSOM StartedAt: 2025-11-18 16:33:42 -0500 (Tue, 18 Nov 2025) EndedAt: 2025-11-18 16:34:25 -0500 (Tue, 18 Nov 2025) EllapsedTime: 42.5 seconds RetCode: 0 Status: OK PackageFile: FlowSOM_2.19.0.tar.gz PackageFileSize: 4.919 MiB