Package: FlowSOM Version: 2.19.0 Command: /Library/Frameworks/R.framework/Resources/bin/R CMD INSTALL FlowSOM StartedAt: 2025-11-18 15:18:09 -0500 (Tue, 18 Nov 2025) EndedAt: 2025-11-18 15:18:14 -0500 (Tue, 18 Nov 2025) EllapsedTime: 5.3 seconds RetCode: 0 Status: OK