Package: FlowSOM Version: 2.19.0 Command: rm -rf FlowSOM.buildbin-libdir && mkdir FlowSOM.buildbin-libdir && /Users/biocbuild/BBS/utils/build-universal.sh FlowSOM_2.19.0.tar.gz /Library/Frameworks/R.framework/Resources/bin/R FlowSOM.buildbin-libdir StartedAt: 2025-11-22 01:34:40 -0500 (Sat, 22 Nov 2025) EndedAt: 2025-11-22 01:35:07 -0500 (Sat, 22 Nov 2025) EllapsedTime: 27.9 seconds RetCode: 0 Status: OK PackageFile: FlowSOM_2.19.0.tgz PackageFileSize: 5.223 MiB