Package: FlowSOM Version: 2.19.0 Command: /Library/Frameworks/R.framework/Resources/bin/R CMD build --keep-empty-dirs --no-resave-data FlowSOM StartedAt: 2025-11-20 17:03:10 -0500 (Thu, 20 Nov 2025) EndedAt: 2025-11-20 17:04:48 -0500 (Thu, 20 Nov 2025) EllapsedTime: 98.6 seconds RetCode: 0 Status: OK PackageFile: FlowSOM_2.19.0.tar.gz PackageFileSize: 4.906 MiB