Package: FlowSOM Version: 2.19.0 Command: /Library/Frameworks/R.framework/Resources/bin/R CMD INSTALL FlowSOM StartedAt: 2025-11-20 15:25:03 -0500 (Thu, 20 Nov 2025) EndedAt: 2025-11-20 15:25:24 -0500 (Thu, 20 Nov 2025) EllapsedTime: 21.0 seconds RetCode: 0 Status: OK