Package: FlowSOM Version: 2.19.0 Command: /home/biocbuild/bbs-3.23-bioc/R/bin/R CMD build --keep-empty-dirs --no-resave-data FlowSOM StartedAt: 2025-11-25 17:41:58 -0500 (Tue, 25 Nov 2025) EndedAt: 2025-11-25 17:43:40 -0500 (Tue, 25 Nov 2025) EllapsedTime: 102.1 seconds RetCode: 0 Status: OK PackageFile: FlowSOM_2.19.0.tar.gz PackageFileSize: 4.892 MiB