Package: FlowSOM Version: 2.19.0 Command: /home/biocbuild/bbs-3.23-bioc/R/bin/R CMD INSTALL FlowSOM StartedAt: 2025-11-25 15:14:06 -0500 (Tue, 25 Nov 2025) EndedAt: 2025-11-25 15:14:20 -0500 (Tue, 25 Nov 2025) EllapsedTime: 13.3 seconds RetCode: 0 Status: OK