Package: GDSArray Version: 1.31.0 Command: rm -rf GDSArray.buildbin-libdir && mkdir GDSArray.buildbin-libdir && /Users/biocbuild/BBS/utils/build-universal.sh GDSArray_1.31.0.tar.gz /Library/Frameworks/R.framework/Resources/bin/R GDSArray.buildbin-libdir StartedAt: 2025-11-18 23:41:40 -0500 (Tue, 18 Nov 2025) EndedAt: 2025-11-18 23:41:52 -0500 (Tue, 18 Nov 2025) EllapsedTime: 12.2 seconds RetCode: 0 Status: OK PackageFile: GDSArray_1.31.0.tgz PackageFileSize: 662.8 KiB