Package: GDSArray Version: 1.31.0 Command: /Library/Frameworks/R.framework/Resources/bin/R CMD INSTALL GDSArray StartedAt: 2025-11-18 15:26:06 -0500 (Tue, 18 Nov 2025) EndedAt: 2025-11-18 15:26:13 -0500 (Tue, 18 Nov 2025) EllapsedTime: 7.0 seconds RetCode: 0 Status: OK