Package: GDSArray Version: 1.31.0 Command: rm -rf GDSArray.buildbin-libdir && mkdir GDSArray.buildbin-libdir && /Users/biocbuild/BBS/utils/build-universal.sh GDSArray_1.31.0.tar.gz /Library/Frameworks/R.framework/Resources/bin/R GDSArray.buildbin-libdir StartedAt: 2025-11-24 01:36:54 -0500 (Mon, 24 Nov 2025) EndedAt: 2025-11-24 01:37:22 -0500 (Mon, 24 Nov 2025) EllapsedTime: 27.7 seconds RetCode: 0 Status: OK PackageFile: GDSArray_1.31.0.tgz PackageFileSize: 662.1 KiB