Package: GDSArray Version: 1.31.0 Command: /Library/Frameworks/R.framework/Resources/bin/R CMD build --keep-empty-dirs --no-resave-data GDSArray StartedAt: 2025-11-24 17:04:33 -0500 (Mon, 24 Nov 2025) EndedAt: 2025-11-24 17:05:06 -0500 (Mon, 24 Nov 2025) EllapsedTime: 33.2 seconds RetCode: 0 Status: OK PackageFile: GDSArray_1.31.0.tar.gz PackageFileSize: 305.5 KiB