Package: GDSArray Version: 1.31.0 Command: /Library/Frameworks/R.framework/Resources/bin/R CMD INSTALL GDSArray StartedAt: 2025-11-23 15:28:42 -0500 (Sun, 23 Nov 2025) EndedAt: 2025-11-23 15:29:07 -0500 (Sun, 23 Nov 2025) EllapsedTime: 25.3 seconds RetCode: 0 Status: OK