Package: GEOsubmission Version: 1.63.0 Command: /Library/Frameworks/R.framework/Resources/bin/R CMD build --keep-empty-dirs --no-resave-data GEOsubmission StartedAt: 2025-11-19 16:29:36 -0500 (Wed, 19 Nov 2025) EndedAt: 2025-11-19 16:29:44 -0500 (Wed, 19 Nov 2025) EllapsedTime: 8.1 seconds RetCode: 0 Status: OK PackageFile: GEOsubmission_1.63.0.tar.gz PackageFileSize: 192.6 KiB