Package: GEOsubmission Version: 1.63.0 Command: /Library/Frameworks/R.framework/Resources/bin/R CMD INSTALL GEOsubmission StartedAt: 2025-11-19 15:08:42 -0500 (Wed, 19 Nov 2025) EndedAt: 2025-11-19 15:08:44 -0500 (Wed, 19 Nov 2025) EllapsedTime: 2.2 seconds RetCode: 0 Status: OK