Package: GEOsubmission Version: 1.63.0 Command: /Library/Frameworks/R.framework/Resources/bin/R CMD INSTALL GEOsubmission StartedAt: 2025-11-19 15:20:52 -0500 (Wed, 19 Nov 2025) EndedAt: 2025-11-19 15:21:03 -0500 (Wed, 19 Nov 2025) EllapsedTime: 10.8 seconds RetCode: 0 Status: OK