Package: GNET2 Version: 1.27.0 Command: rm -rf GNET2.buildbin-libdir && mkdir GNET2.buildbin-libdir && /Users/biocbuild/BBS/utils/build-universal.sh GNET2_1.27.0.tar.gz /Library/Frameworks/R.framework/Resources/bin/R GNET2.buildbin-libdir StartedAt: 2025-11-21 01:36:32 -0500 (Fri, 21 Nov 2025) EndedAt: 2025-11-21 01:37:23 -0500 (Fri, 21 Nov 2025) EllapsedTime: 50.8 seconds RetCode: 0 Status: OK PackageFile: GNET2_1.27.0.tgz PackageFileSize: 915 KiB