Package: GNET2 Version: 1.27.0 Command: /Library/Frameworks/R.framework/Resources/bin/R CMD build --keep-empty-dirs --no-resave-data GNET2 StartedAt: 2025-11-19 17:12:13 -0500 (Wed, 19 Nov 2025) EndedAt: 2025-11-19 17:13:08 -0500 (Wed, 19 Nov 2025) EllapsedTime: 54.9 seconds RetCode: 0 Status: OK PackageFile: GNET2_1.27.0.tar.gz PackageFileSize: 789.7 KiB