Package: GNET2 Version: 1.27.0 Command: /Library/Frameworks/R.framework/Resources/bin/R CMD INSTALL GNET2 StartedAt: 2025-11-20 15:24:33 -0500 (Thu, 20 Nov 2025) EndedAt: 2025-11-20 15:25:16 -0500 (Thu, 20 Nov 2025) EllapsedTime: 43.5 seconds RetCode: 0 Status: OK