Package: GNET2 Version: 1.27.0 Command: /home/biocbuild/bbs-3.23-bioc/R/bin/R CMD INSTALL GNET2 StartedAt: 2025-11-19 15:21:55 -0500 (Wed, 19 Nov 2025) EndedAt: 2025-11-19 15:22:28 -0500 (Wed, 19 Nov 2025) EllapsedTime: 33.2 seconds RetCode: 0 Status: OK