Package: GenProSeq Version: 1.15.0 Command: /Library/Frameworks/R.framework/Resources/bin/R CMD build --keep-empty-dirs --no-resave-data GenProSeq StartedAt: 2025-11-24 16:32:12 -0500 (Mon, 24 Nov 2025) EndedAt: 2025-11-24 16:32:20 -0500 (Mon, 24 Nov 2025) EllapsedTime: 8.1 seconds RetCode: 0 Status: OK PackageFile: GenProSeq_1.15.0.tar.gz PackageFileSize: 1.115 MiB