Package: GeneStructureTools Version: 1.31.0 Command: rm -rf GeneStructureTools.buildbin-libdir && mkdir GeneStructureTools.buildbin-libdir && /Users/biocbuild/BBS/utils/build-universal.sh GeneStructureTools_1.31.0.tar.gz /Library/Frameworks/R.framework/Resources/bin/R GeneStructureTools.buildbin-libdir StartedAt: 2025-11-19 23:35:27 -0500 (Wed, 19 Nov 2025) EndedAt: 2025-11-19 23:35:52 -0500 (Wed, 19 Nov 2025) EllapsedTime: 25.6 seconds RetCode: 0 Status: OK PackageFile: GeneStructureTools_1.31.0.tgz PackageFileSize: 2.355 MiB