Package: GeneStructureTools Version: 1.31.0 Command: rm -rf GeneStructureTools.buildbin-libdir && mkdir GeneStructureTools.buildbin-libdir && /Users/biocbuild/BBS/utils/build-universal.sh GeneStructureTools_1.31.0.tar.gz /Library/Frameworks/R.framework/Resources/bin/R GeneStructureTools.buildbin-libdir StartedAt: 2025-11-20 01:34:38 -0500 (Thu, 20 Nov 2025) EndedAt: 2025-11-20 01:35:52 -0500 (Thu, 20 Nov 2025) EllapsedTime: 74.7 seconds RetCode: 0 Status: OK PackageFile: GeneStructureTools_1.31.0.tgz PackageFileSize: 2.352 MiB