Package: GeneStructureTools Version: 1.31.0 Command: /Library/Frameworks/R.framework/Resources/bin/R CMD build --keep-empty-dirs --no-resave-data GeneStructureTools StartedAt: 2025-11-19 17:07:20 -0500 (Wed, 19 Nov 2025) EndedAt: 2025-11-19 17:10:12 -0500 (Wed, 19 Nov 2025) EllapsedTime: 171.8 seconds RetCode: 0 Status: OK PackageFile: GeneStructureTools_1.31.0.tar.gz PackageFileSize: 2.848 MiB