Package: GeneStructureTools Version: 1.31.0 Command: /Library/Frameworks/R.framework/Resources/bin/R CMD INSTALL GeneStructureTools StartedAt: 2025-11-18 15:51:41 -0500 (Tue, 18 Nov 2025) EndedAt: 2025-11-18 15:52:51 -0500 (Tue, 18 Nov 2025) EllapsedTime: 70.2 seconds RetCode: 0 Status: OK