Package: GeneStructureTools Version: 1.31.0 Command: /home/biocbuild/bbs-3.23-bioc/R/bin/R CMD build --keep-empty-dirs --no-resave-data GeneStructureTools StartedAt: 2025-11-19 17:48:13 -0500 (Wed, 19 Nov 2025) EndedAt: 2025-11-19 17:50:44 -0500 (Wed, 19 Nov 2025) EllapsedTime: 151.2 seconds RetCode: 0 Status: OK PackageFile: GeneStructureTools_1.31.0.tar.gz PackageFileSize: 2.822 MiB