Package: GenomicAlignments Version: 1.47.0 Command: rm -rf GenomicAlignments.buildbin-libdir && mkdir GenomicAlignments.buildbin-libdir && /Users/biocbuild/BBS/utils/build-universal.sh GenomicAlignments_1.47.0.tar.gz /Library/Frameworks/R.framework/Resources/bin/R GenomicAlignments.buildbin-libdir StartedAt: 2025-11-19 23:35:32 -0500 (Wed, 19 Nov 2025) EndedAt: 2025-11-19 23:35:49 -0500 (Wed, 19 Nov 2025) EllapsedTime: 17.3 seconds RetCode: 0 Status: OK PackageFile: GenomicAlignments_1.47.0.tgz PackageFileSize: 2.242 MiB