Package: GenomicAlignments Version: 1.47.0 Command: /Library/Frameworks/R.framework/Resources/bin/R CMD INSTALL GenomicAlignments StartedAt: 2025-11-19 15:17:08 -0500 (Wed, 19 Nov 2025) EndedAt: 2025-11-19 15:17:22 -0500 (Wed, 19 Nov 2025) EllapsedTime: 13.6 seconds RetCode: 0 Status: OK