Package: GenomicAlignments Version: 1.47.0 Command: /home/biocbuild/bbs-3.23-bioc/R/bin/R CMD INSTALL GenomicAlignments StartedAt: 2025-11-24 15:24:10 -0500 (Mon, 24 Nov 2025) EndedAt: 2025-11-24 15:24:44 -0500 (Mon, 24 Nov 2025) EllapsedTime: 34.1 seconds RetCode: 0 Status: OK