Package: GenomicDataCommons Version: 1.35.1 Command: /Library/Frameworks/R.framework/Resources/bin/R CMD build --keep-empty-dirs --no-resave-data GenomicDataCommons StartedAt: 2025-11-21 16:26:04 -0500 (Fri, 21 Nov 2025) EndedAt: 2025-11-21 16:26:45 -0500 (Fri, 21 Nov 2025) EllapsedTime: 41.4 seconds RetCode: 0 Status: OK PackageFile: GenomicDataCommons_1.35.1.tar.gz PackageFileSize: 2.383 MiB