Package: GenomicDistributions Version: 1.19.0 Command: /Library/Frameworks/R.framework/Resources/bin/R CMD build --keep-empty-dirs --no-resave-data GenomicDistributions StartedAt: 2025-11-18 16:37:28 -0500 (Tue, 18 Nov 2025) EndedAt: 2025-11-18 16:37:55 -0500 (Tue, 18 Nov 2025) EllapsedTime: 27.3 seconds RetCode: 0 Status: OK PackageFile: GenomicDistributions_1.19.0.tar.gz PackageFileSize: 5.952 MiB