Package: GeoDiff Version: 1.17.0 Command: /Library/Frameworks/R.framework/Resources/bin/R CMD build --keep-empty-dirs --no-resave-data GeoDiff StartedAt: 2025-11-19 17:09:39 -0500 (Wed, 19 Nov 2025) EndedAt: 2025-11-19 17:13:53 -0500 (Wed, 19 Nov 2025) EllapsedTime: 254.5 seconds RetCode: 0 Status: OK PackageFile: GeoDiff_1.17.0.tar.gz PackageFileSize: 4.579 MiB