Package: GeoDiff Version: 1.17.0 Command: /home/biocbuild/bbs-3.23-bioc/R/bin/R CMD INSTALL GeoDiff StartedAt: 2025-11-18 16:09:15 -0500 (Tue, 18 Nov 2025) EndedAt: 2025-11-18 16:10:41 -0500 (Tue, 18 Nov 2025) EllapsedTime: 85.9 seconds RetCode: 0 Status: OK