Package: GeomxTools Version: 3.15.0 Command: /Library/Frameworks/R.framework/Resources/bin/R CMD build --keep-empty-dirs --no-resave-data GeomxTools StartedAt: 2025-11-18 16:39:08 -0500 (Tue, 18 Nov 2025) EndedAt: 2025-11-18 16:41:25 -0500 (Tue, 18 Nov 2025) EllapsedTime: 137.4 seconds RetCode: 0 Status: OK PackageFile: GeomxTools_3.15.0.tar.gz PackageFileSize: 17.04 MiB