Package: GeomxTools Version: 3.15.0 Command: /Library/Frameworks/R.framework/Resources/bin/R CMD INSTALL GeomxTools StartedAt: 2025-11-18 15:18:59 -0500 (Tue, 18 Nov 2025) EndedAt: 2025-11-18 15:19:09 -0500 (Tue, 18 Nov 2025) EllapsedTime: 10.7 seconds RetCode: 0 Status: OK