Package: GeomxTools Version: 3.15.0 Command: rm -rf GeomxTools.buildbin-libdir && mkdir GeomxTools.buildbin-libdir && /Users/biocbuild/BBS/utils/build-universal.sh GeomxTools_3.15.0.tar.gz /Library/Frameworks/R.framework/Resources/bin/R GeomxTools.buildbin-libdir StartedAt: 2025-11-25 01:33:54 -0500 (Tue, 25 Nov 2025) EndedAt: 2025-11-25 01:34:39 -0500 (Tue, 25 Nov 2025) EllapsedTime: 45.0 seconds RetCode: 0 Status: OK PackageFile: GeomxTools_3.15.0.tgz PackageFileSize: 15.79 MiB