Package: GeomxTools Version: 3.15.0 Command: /Library/Frameworks/R.framework/Resources/bin/R CMD build --keep-empty-dirs --no-resave-data GeomxTools StartedAt: 2025-11-25 17:21:18 -0500 (Tue, 25 Nov 2025) EndedAt: 2025-11-25 17:29:20 -0500 (Tue, 25 Nov 2025) EllapsedTime: 482.4 seconds RetCode: 0 Status: OK PackageFile: GeomxTools_3.15.0.tar.gz PackageFileSize: 17.03 MiB