Package: GeomxTools Version: 3.15.0 Command: /Library/Frameworks/R.framework/Resources/bin/R CMD INSTALL GeomxTools StartedAt: 2025-11-24 15:23:06 -0500 (Mon, 24 Nov 2025) EndedAt: 2025-11-24 15:23:43 -0500 (Mon, 24 Nov 2025) EllapsedTime: 37.8 seconds RetCode: 0 Status: OK