Package: GraphAT Version: 1.83.0 Command: rm -rf GraphAT.buildbin-libdir && mkdir GraphAT.buildbin-libdir && /Users/biocbuild/BBS/utils/build-universal.sh GraphAT_1.83.0.tar.gz /Library/Frameworks/R.framework/Resources/bin/R GraphAT.buildbin-libdir StartedAt: 2025-11-20 01:36:32 -0500 (Thu, 20 Nov 2025) EndedAt: 2025-11-20 01:36:44 -0500 (Thu, 20 Nov 2025) EllapsedTime: 12.7 seconds RetCode: 0 Status: OK PackageFile: GraphAT_1.83.0.tgz PackageFileSize: 1.917 MiB