Package: GraphAT Version: 1.83.0 Command: /Library/Frameworks/R.framework/Resources/bin/R CMD build --keep-empty-dirs --no-resave-data GraphAT StartedAt: 2025-11-19 17:14:38 -0500 (Wed, 19 Nov 2025) EndedAt: 2025-11-19 17:14:40 -0500 (Wed, 19 Nov 2025) EllapsedTime: 2.3 seconds RetCode: 0 Status: OK PackageFile: GraphAT_1.83.0.tar.gz PackageFileSize: 1.884 MiB